BEGIN:VCALENDAR
VERSION:2.0
PRODID:-//Tukios.com/
BEGIN:VEVENT
UID:76d3b684-177c-40db-9e78-fc89f477d9c3@www.tighehamilton.com
DTSTAMP:20260421T182759Z
DTSTART:20260426T190000Z
DTEND:20260426T220000Z
SUMMARY:Visitation
DESCRIPTION:
URL:https://www.tighehamilton.com/obituaries/antonio-lino
LOCATION: 50 Central St.  Hudson MA 01749
GEO:42.3929612;-71.5746017
END:VEVENT
END:VCALENDAR