BEGIN:VCALENDAR
VERSION:2.0
PRODID:-//Tukios.com/
BEGIN:VEVENT
UID:b211f3c3-0013-45d3-90fc-a97baf28c7ed@www.tighehamilton.com
DTSTAMP:20260421T182506Z
DTSTART:20260427T140000Z
DTEND:20260427T150000Z
SUMMARY:Mass
DESCRIPTION:
URL:https://www.tighehamilton.com/obituaries/antonio-lino
LOCATION: 21 Manning Street  Hudson MA 01749
GEO:42.3929626;-71.5641559
END:VEVENT
END:VCALENDAR