BEGIN:VCALENDAR
VERSION:2.0
PRODID:-//Tukios.com/
BEGIN:VEVENT
UID:73f9f339-323b-40b7-9299-84ee1f85760d@www.tighehamilton.com
DTSTAMP:20260422T202147Z
DTSTART:20260501T190000Z
DTEND:20260501T210000Z
SUMMARY:Visitation
DESCRIPTION:
URL:https://www.tighehamilton.com/obituaries/everett-beaulieu-jr
LOCATION: 50 Central St.  Hudson MA 01749
GEO:42.3929612;-71.5746017
END:VEVENT
END:VCALENDAR