BEGIN:VCALENDAR
VERSION:2.0
PRODID:-//Tukios.com/
BEGIN:VEVENT
UID:b44b7efb-9243-4af4-981c-29990ba6ae1c@www.tighehamilton.com
DTSTAMP:20260422T202737Z
DTSTART:20260501T210000Z
DTEND:20260501T213000Z
SUMMARY:Celebration of Life
DESCRIPTION:
URL:https://www.tighehamilton.com/obituaries/everett-beaulieu-jr
LOCATION: 50 Central St.  Hudson MA 01749
GEO:42.3929612;-71.5746017
END:VEVENT
END:VCALENDAR